BEGIN:VCALENDAR
VERSION:2.0
PRODID:-//hacksw/handcal//NONSGML v1.0//EN
BEGIN:VEVENT
SUMMARY:Vimeu Chess Tour Huchenneville
UID:3d48d561-0fe8-4173-aa7b-c35517a7ce82
DTSTART:20260425T113000Z
DTEND:20260425T160000Z
LOCATION:Localisation   
CATEGORIES:Sportif
STATUS:
DESCRIPTION:<p>Sameedi 25 Avril </p>
 
 <p>4 eme etape du Vimeu Chess
 Club a Huchenneville Salle des fetes de 13h30 a 18h</p>
 
 <p><span
 style="font-size:16px;"><strong><a
 href="https://www.vimeuchessclub.com/evenements/2026/03/21/3eme-etape-du-vimeu-chess-tour-a-bourseville-2319719"
 target="_blank" rel="noreferrer noopener"><span
 style="color:#c0392b;">Inscriptions </span></a>  </strong>(voir en
 bas de page)</span></p>
URL;VALUE=URI:https://www.belloy-echecs.fr/evenements/2026/04/25/vimeu-chess-tour-huchenneville-2431927
END:VEVENT
END:VCALENDAR
